BEGIN:VCALENDAR
VERSION:2.0
PRODID:-//Library Market//iCal Export//EN
BEGIN:VEVENT
SUMMARY:Study Room 4
UID:26476
DTSTAMP:20260419T143800Z
DTSTART:20260418T183000Z
DTEND:20260418T203000Z
LOCATION:Johnston Public Library, 6700 Merle Hay Rd, Johnston, IA 50131, U
 nited States
ROOM: Study Room 4
DESCRIPTION:
URL:https://johnston.librarycalendar.com/event/study-room-4-26476
END:VEVENT
END:VCALENDAR
