BEGIN:VCALENDAR
VERSION:2.0
PRODID:-//Library Market//iCal Export//EN
BEGIN:VEVENT
SUMMARY:Help Desk Appointment
UID:26477
DTSTAMP:20260425T154600Z
DTSTART:20260414T153000Z
DTEND:20260414T160000Z
LOCATION:Johnston Public Library, 6700 Merle Hay Rd, Johnston, IA 50131, U
 nited States
ROOM: Whisper Room
DESCRIPTION:
URL:https://johnston.librarycalendar.com/event/help-desk-appointment-26477
END:VEVENT
END:VCALENDAR
