BEGIN:VCALENDAR
VERSION:2.0
PRODID:-//Library Market//iCal Export//EN
BEGIN:VEVENT
SUMMARY:HOA Meeting
UID:26478
DTSTAMP:20260421T194800Z
DTSTART:20260707T233000Z
DTEND:20260708T010000Z
LOCATION:Johnston Public Library, 6700 Merle Hay Rd, Johnston, IA 50131, U
 nited States
ROOM: Archive Room
DESCRIPTION:Regular HOA Meeting
URL:https://johnston.librarycalendar.com/event/hoa-meeting-26478
END:VEVENT
END:VCALENDAR
