BEGIN:VCALENDAR
VERSION:2.0
PRODID:-//Library Market//iCal Export//EN
BEGIN:VEVENT
SUMMARY:Comedy XPeriment Rehearsal
UID:26480
DTSTAMP:20260421T194800Z
DTSTART:20260430T233000Z
DTEND:20260501T010000Z
LOCATION:Johnston Public Library, 6700 Merle Hay Rd, Johnston, IA 50131, U
 nited States
ROOM: East Meeting Room (1/2 of Large)
DESCRIPTION:Comedy XPeriment Rehearsal
URL:https://johnston.librarycalendar.com/event/comedy-xperiment-rehearsal-
 26480
END:VEVENT
END:VCALENDAR
