BEGIN:VCALENDAR
VERSION:2.0
PRODID:-//Library Market//iCal Export//EN
BEGIN:VEVENT
SUMMARY:Study Room
UID:26493
DTSTAMP:20260419T143800Z
DTSTART:20260418T190000Z
DTEND:20260418T223000Z
LOCATION:Johnston Public Library, 6700 Merle Hay Rd, Johnston, IA 50131, U
 nited States
ROOM: Archive Room
DESCRIPTION:I have appreciated the exception made in the past for my work 
 that sometimes requires more room than the traditional study allows for. I
  hope that exception can be extended again. Thanks in advance for consider
 ing this request.
URL:https://johnston.librarycalendar.com/event/study-room-26493
END:VEVENT
END:VCALENDAR
