BEGIN:VCALENDAR
VERSION:2.0
PRODID:-//Library Market//iCal Export//EN
BEGIN:VEVENT
SUMMARY:CPEAR mee3ting
UID:26577
DTSTAMP:20260423T001500Z
DTSTART:20260614T180000Z
DTEND:20260614T200000Z
LOCATION:Johnston Public Library, 6700 Merle Hay Rd, Johnston, IA 50131, U
 nited States
ROOM: Archive Room
DESCRIPTION:CPEAR Meeting
URL:https://johnston.librarycalendar.com/event/cpear-mee3ting-26577
END:VEVENT
END:VCALENDAR
