BEGIN:VCALENDAR
VERSION:2.0
PRODID:-//Library Market//iCal Export//EN
BEGIN:VEVENT
SUMMARY:Tutoring
UID:26578
DTSTAMP:20260423T224600Z
DTSTART:20260430T210000Z
DTEND:20260430T220000Z
LOCATION:Johnston Public Library, 6700 Merle Hay Rd, Johnston, IA 50131, U
 nited States
ROOM: Study Room 1
DESCRIPTION:
URL:https://johnston.librarycalendar.com/event/tutoring-26578
END:VEVENT
END:VCALENDAR
